BEGIN:VCALENDAR
VERSION:2.0
PRODID:-//hacksw/handcal//NONSGML v1.0//EN
BEGIN:VEVENT
SUMMARY:Course de gravel au Quebec
UID:346b9bd1-1d5f-40ae-8ffc-c004206aaacc
DTSTART:20261002T220000Z
DTEND:20261003T220000Z
LOCATION:Localisation   
CATEGORIES:Sportif
STATUS:
URL;VALUE=URI:https://www.mgvelo.com/evenements/2026/10/03/course-de-gravel-au-quebec-2433051
END:VEVENT
END:VCALENDAR
