BEGIN:VCALENDAR
VERSION:2.0
PRODID:-//hacksw/handcal//NONSGML v1.0//EN
BEGIN:VEVENT
SUMMARY:Prix du Centre de la France a Bruere-Allichamps
UID:5ca41898-5118-4e1c-a855-e59b05c1b917
DTSTART:20260927T220000Z
DTEND:20260928T220000Z
LOCATION:Localisation   
CATEGORIES:Sportif
STATUS:
URL;VALUE=URI:https://www.mgvelo.com/evenements/2026/09/28/prix-du-centre-de-la-france-a-bruere-allichamps-2419602
END:VEVENT
END:VCALENDAR
