BEGIN:VCALENDAR
VERSION:2.0
PRODID:-//hacksw/handcal//NONSGML v1.0//EN
BEGIN:VEVENT
SUMMARY:Prix des vendanges a Maisonnais
UID:607e2575-2917-4401-8b81-8301a0f9e0f6
DTSTART:20260927T120000Z
DTEND:20260927T220000Z
LOCATION:Localisation   
CATEGORIES:Sportif
STATUS:
URL;VALUE=URI:https://www.mgvelo.com/evenements/2026/09/27/prix-des-vendanges-a-maisonnais-2419601
END:VEVENT
END:VCALENDAR
