BEGIN:VCALENDAR
VERSION:2.0
PRODID:-//hacksw/handcal//NONSGML v1.0//EN
BEGIN:VEVENT
SUMMARY:Circuit des Deux-Ponts a Culan
UID:652ca576-6b73-44bd-9ad8-15bda2146458
DTSTART:20260921T120000Z
DTEND:20260921T220000Z
LOCATION:Localisation   
CATEGORIES:Sportif
STATUS:
URL;VALUE=URI:https://www.mgvelo.com/evenements/2026/09/21/circuit-des-deux-ponts-a-culan-2419597
END:VEVENT
END:VCALENDAR
