BEGIN:VCALENDAR
VERSION:2.0
PRODID:-//hacksw/handcal//NONSGML v1.0//EN
BEGIN:VEVENT
SUMMARY:Prix de la Ville de Saint-Amand-Montrond
UID:395fce09-47ad-4776-b3ef-f0d192d3d189
DTSTART:20260920T120000Z
DTEND:20260920T220000Z
LOCATION:Localisation   
CATEGORIES:Sportif
STATUS:
URL;VALUE=URI:https://www.mgvelo.com/evenements/2026/09/20/prix-de-la-ville-de-saint-amand-montrond-2419595
END:VEVENT
END:VCALENDAR
