BEGIN:VCALENDAR
VERSION:2.0
PRODID:-//hacksw/handcal//NONSGML v1.0//EN
BEGIN:VEVENT
SUMMARY:Prix des vins nouveaux a Vesdun
UID:c0269bfd-ec76-4b40-946b-92e7305faa30
DTSTART:20260919T120000Z
DTEND:20260919T220000Z
LOCATION:Localisation   
CATEGORIES:Sportif
STATUS:
URL;VALUE=URI:https://www.mgvelo.com/evenements/2026/09/19/prix-des-vins-nouveaux-a-vesdun-2419594
END:VEVENT
END:VCALENDAR
