BEGIN:VCALENDAR
VERSION:2.0
PRODID:-//hacksw/handcal//NONSGML v1.0//EN
BEGIN:VEVENT
SUMMARY:Circuit des Deux-Ponts a Montlucon
UID:67650bfb-8728-4429-88be-e977fa6dd7a2
DTSTART:20260912T220000Z
DTEND:20260913T220000Z
LOCATION:Localisation   
CATEGORIES:Sportif
STATUS:
URL;VALUE=URI:https://www.mgvelo.com/evenements/2026/09/13/circuit-des-deux-ponts-a-montlucon-2420064
END:VEVENT
END:VCALENDAR
