BEGIN:VCALENDAR
VERSION:2.0
PRODID:-//hacksw/handcal//NONSGML v1.0//EN
BEGIN:VEVENT
SUMMARY:Prix des Grattons a Chateaumeillant
UID:41bb18d3-a719-4d57-8273-95109f3f29a3
DTSTART:20260907T120000Z
DTEND:20260907T220000Z
LOCATION:Localisation   
CATEGORIES:Sportif
STATUS:
URL;VALUE=URI:https://www.mgvelo.com/evenements/2026/09/07/prix-des-grattons-a-chateaumeillant-2419593
END:VEVENT
END:VCALENDAR
