BEGIN:VCALENDAR
VERSION:2.0
PRODID:-//hacksw/handcal//NONSGML v1.0//EN
BEGIN:VEVENT
SUMMARY:Classic Jean-Patrick Dubuisson U19
UID:4f03740b-6473-4124-9400-fca40a4fecab
DTSTART:20260905T220000Z
DTEND:20260906T220000Z
LOCATION:Localisation   
CATEGORIES:Sportif
STATUS:
URL;VALUE=URI:https://www.mgvelo.com/evenements/2026/09/06/classic-jean-patrick-dubuisson-u19-2420062
END:VEVENT
END:VCALENDAR
