BEGIN:VCALENDAR
VERSION:2.0
PRODID:-//hacksw/handcal//NONSGML v1.0//EN
BEGIN:VEVENT
SUMMARY:Prix Bernard Goutaudier a Saint-Angel
UID:76a45ae3-c8d3-4d31-9b17-ca1844eba52a
DTSTART:20260829T220000Z
DTEND:20260830T220000Z
LOCATION:Localisation   
CATEGORIES:Sportif
STATUS:
URL;VALUE=URI:https://www.mgvelo.com/evenements/2026/08/30/prix-bernard-goutaudier-a-saint-angel-2420054
END:VEVENT
END:VCALENDAR
