BEGIN:VCALENDAR
VERSION:2.0
PRODID:-//hacksw/handcal//NONSGML v1.0//EN
BEGIN:VEVENT
SUMMARY:Course de gravel au Quebec
UID:ee77e1e6-64c5-48fd-a59f-3c0b3e94951c
DTSTART:20260821T220000Z
DTEND:20260823T220000Z
LOCATION:Localisation   
CATEGORIES:Sportif
STATUS:
URL;VALUE=URI:https://www.mgvelo.com/evenements/2026/08/22/course-de-gravel-au-quebec-2433044
END:VEVENT
END:VCALENDAR
