BEGIN:VCALENDAR
VERSION:2.0
PRODID:-//hacksw/handcal//NONSGML v1.0//EN
BEGIN:VEVENT
SUMMARY:Le Lac Megantic sur route au Quebec
UID:c14e2ed3-e0bd-49f9-98c1-549b91ef9446
DTSTART:20260814T220000Z
DTEND:20260815T220000Z
LOCATION:Localisation   
CATEGORIES:Sportif
STATUS:
URL;VALUE=URI:https://www.mgvelo.com/evenements/2026/08/15/le-lac-megantic-sur-route-au-quebec-2433043
END:VEVENT
END:VCALENDAR
