BEGIN:VCALENDAR
VERSION:2.0
PRODID:-//hacksw/handcal//NONSGML v1.0//EN
BEGIN:VEVENT
SUMMARY:Prix de Montmarault
UID:0589f763-2a26-4ce8-b6f7-ce7c8720c0c5
DTSTART:20260802T220000Z
DTEND:20260803T220000Z
LOCATION:Localisation   
CATEGORIES:Sportif
STATUS:
URL;VALUE=URI:https://www.mgvelo.com/evenements/2026/08/03/prix-de-montmarault-2420053
END:VEVENT
END:VCALENDAR
