BEGIN:VCALENDAR
VERSION:2.0
PRODID:-//hacksw/handcal//NONSGML v1.0//EN
BEGIN:VEVENT
SUMMARY:Course sur route a Issoudun au Quebec
UID:5384e675-cec7-4215-a898-82e3aeeca77c
DTSTART:20260729T220000Z
DTEND:20260730T220000Z
LOCATION:Localisation   
CATEGORIES:Sportif
STATUS:
URL;VALUE=URI:https://www.mgvelo.com/evenements/2026/07/30/course-sur-route-a-issoudun-au-quebec-2433041
END:VEVENT
END:VCALENDAR
