BEGIN:VCALENDAR
VERSION:2.0
PRODID:-//hacksw/handcal//NONSGML v1.0//EN
BEGIN:VEVENT
SUMMARY:Trophee Roger Walkowiak a Cusset
UID:92533c14-a2a7-4dff-a524-c411c534e6d5
DTSTART:20260725T220000Z
DTEND:20260726T220000Z
LOCATION:Localisation   
CATEGORIES:Sportif
STATUS:
URL;VALUE=URI:https://www.mgvelo.com/evenements/2026/07/26/trophee-roger-walkowiak-a-cusset-2420061
END:VEVENT
END:VCALENDAR
