BEGIN:VCALENDAR
VERSION:2.0
PRODID:-//hacksw/handcal//NONSGML v1.0//EN
BEGIN:VEVENT
SUMMARY:Course de gravel au Quebec
UID:1f244e78-7d04-4680-bd21-394e644240d1
DTSTART:20260717T220000Z
DTEND:20260718T220000Z
LOCATION:Localisation   
CATEGORIES:Sportif
STATUS:
URL;VALUE=URI:https://www.mgvelo.com/evenements/2026/07/18/course-de-gravel-au-quebec-2433040
END:VEVENT
END:VCALENDAR
