BEGIN:VCALENDAR
VERSION:2.0
PRODID:-//hacksw/handcal//NONSGML v1.0//EN
BEGIN:VEVENT
SUMMARY:Nocturne de Moulins 03
UID:47993982-f1f5-40dc-b907-833c07b077c9
DTSTART:20260702T220000Z
DTEND:20260703T220000Z
LOCATION:Localisation   
CATEGORIES:Sportif
STATUS:
URL;VALUE=URI:https://www.mgvelo.com/evenements/2026/07/03/nocturne-de-moulins-03-2420051
END:VEVENT
END:VCALENDAR
