BEGIN:VCALENDAR
VERSION:2.0
PRODID:-//hacksw/handcal//NONSGML v1.0//EN
BEGIN:VEVENT
SUMMARY:Criterium de Sherbrooke au Quebec
UID:8fc1369a-06f7-4ef7-8ca4-bc1c272299ee
DTSTART:20260618T220000Z
DTEND:20260619T220000Z
LOCATION:Localisation   
CATEGORIES:Sportif
STATUS:
URL;VALUE=URI:https://www.mgvelo.com/evenements/2026/06/19/criterium-de-sherbrooke-au-quebec-2433039
END:VEVENT
END:VCALENDAR
