BEGIN:VCALENDAR
VERSION:2.0
PRODID:-//hacksw/handcal//NONSGML v1.0//EN
BEGIN:VEVENT
SUMMARY:Les Boucles de l'Arnoult
UID:f6fc2948-c11d-48c9-85ab-538c003dabde
DTSTART:20260613T220000Z
DTEND:20260614T220000Z
LOCATION:Localisation   
CATEGORIES:Sportif
STATUS:
URL;VALUE=URI:https://www.mgvelo.com/evenements/2026/06/14/les-boucles-de-larnoult-2365034
END:VEVENT
END:VCALENDAR
