BEGIN:VCALENDAR
VERSION:2.0
PRODID:-//hacksw/handcal//NONSGML v1.0//EN
BEGIN:VEVENT
SUMMARY:Course de gravel au Quebec
UID:2fadc4a1-3a47-4ad0-b86d-12c711ad52ad
DTSTART:20260612T220000Z
DTEND:20260613T220000Z
LOCATION:Localisation   
CATEGORIES:Sportif
STATUS:
URL;VALUE=URI:https://www.mgvelo.com/evenements/2026/06/13/course-de-gravel-au-quebec-2433038
END:VEVENT
END:VCALENDAR
