BEGIN:VCALENDAR
VERSION:2.0
PRODID:-//hacksw/handcal//NONSGML v1.0//EN
BEGIN:VEVENT
SUMMARY:Tour du Beaujolais
UID:0ab6145a-81a7-43c9-a1c6-1e01b84f238c
DTSTART:20260611T220000Z
DTEND:20260614T220000Z
LOCATION:Localisation   
CATEGORIES:Sportif
STATUS:
URL;VALUE=URI:https://www.mgvelo.com/evenements/2026/06/12/tour-du-beaujolais-2417138
END:VEVENT
END:VCALENDAR
