BEGIN:VCALENDAR
VERSION:2.0
PRODID:-//hacksw/handcal//NONSGML v1.0//EN
BEGIN:VEVENT
SUMMARY:Semi nocturne des Bataillots a Yzeure
UID:19388bd4-3463-455d-a6fb-0a338fc7067e
DTSTART:20260611T220000Z
DTEND:20260612T220000Z
LOCATION:Localisation   
CATEGORIES:Sportif
STATUS:
URL;VALUE=URI:https://www.mgvelo.com/evenements/2026/06/12/semi-nocturne-des-bataillots-a-yzeure-2420050
END:VEVENT
END:VCALENDAR
