BEGIN:VCALENDAR
VERSION:2.0
PRODID:-//hacksw/handcal//NONSGML v1.0//EN
BEGIN:VEVENT
SUMMARY:Criterium de Drummondville au Quebec
UID:765dcb78-ce85-46b0-a016-4f5668709067
DTSTART:20260611T220000Z
DTEND:20260612T220000Z
LOCATION:Localisation   
CATEGORIES:Sportif
STATUS:
URL;VALUE=URI:https://www.mgvelo.com/evenements/2026/06/12/criterium-de-drummondville-au-quebec-2433037
END:VEVENT
END:VCALENDAR
