BEGIN:VCALENDAR
VERSION:2.0
PRODID:-//hacksw/handcal//NONSGML v1.0//EN
BEGIN:VEVENT
SUMMARY:Criterium de Sherbrooke au Quebec
UID:ed439745-39cb-4b3c-ad93-f30680c1d9cc
DTSTART:20260604T220000Z
DTEND:20260605T220000Z
LOCATION:Localisation   
CATEGORIES:Sportif
STATUS:
URL;VALUE=URI:https://www.mgvelo.com/evenements/2026/06/05/criterium-de-sherbrooke-au-quebec-2433034
END:VEVENT
END:VCALENDAR
