BEGIN:VCALENDAR
VERSION:2.0
PRODID:-//hacksw/handcal//NONSGML v1.0//EN
BEGIN:VEVENT
SUMMARY:Bretagne Ladies Tour
UID:50259cd4-c8b9-4349-a387-6a29153ba993
DTSTART:20260528T220000Z
DTEND:20260531T220000Z
LOCATION:Localisation   
CATEGORIES:Sportif
STATUS:
URL;VALUE=URI:https://www.mgvelo.com/evenements/2026/05/29/bretagne-ladies-tour-2440743
END:VEVENT
END:VCALENDAR
