BEGIN:VCALENDAR
VERSION:2.0
PRODID:-//hacksw/handcal//NONSGML v1.0//EN
BEGIN:VEVENT
SUMMARY:Souvenir Louis Bonassi a Rassuen (13)
UID:17927d7f-c376-4282-a929-d4260988d697
DTSTART:20260419T070000Z
DTEND:20260419T220000Z
LOCATION:Localisation   
CATEGORIES:Sportif
STATUS:
URL;VALUE=URI:https://www.mgvelo.com/evenements/2026/04/19/souvenir-louis-bonassi-a-rassuen-13-2437558
END:VEVENT
END:VCALENDAR
