BEGIN:VCALENDAR
VERSION:2.0
PRODID:-//hacksw/handcal//NONSGML v1.0//EN
BEGIN:VEVENT
SUMMARY:Prix de La Verrie-Chanverrie (85) en Open 1
UID:ea209cdf-318f-424c-98c6-6cc531967b3a
DTSTART:20260418T220000Z
DTEND:20260419T220000Z
LOCATION:Localisation   
CATEGORIES:Sportif
STATUS:
URL;VALUE=URI:https://www.mgvelo.com/evenements/2026/04/19/prix-de-la-verrie-chanverrie-85-en-open-1-2440510
END:VEVENT
END:VCALENDAR
