BEGIN:VCALENDAR
VERSION:2.0
PRODID:-//hacksw/handcal//NONSGML v1.0//EN
BEGIN:VEVENT
SUMMARY:Prix de La Verrie-Chanverie (85)
UID:55f50634-7420-49ae-b00e-f011c29b13a5
DTSTART:20260418T220000Z
DTEND:20260419T220000Z
LOCATION:Localisation   
CATEGORIES:Sportif
STATUS:
URL;VALUE=URI:https://www.mgvelo.com/evenements/2026/04/19/prix-de-la-verrie-chanverie-85-2440511
END:VEVENT
END:VCALENDAR
