BEGIN:VCALENDAR
VERSION:2.0
PRODID:-//hacksw/handcal//NONSGML v1.0//EN
BEGIN:VEVENT
SUMMARY:Prix d'Aigurande (36)
UID:898d222f-d4ed-4656-a541-54cc36a7c558
DTSTART:20260418T220000Z
DTEND:20260419T220000Z
LOCATION:Localisation   
CATEGORIES:Sportif
STATUS:
URL;VALUE=URI:https://www.mgvelo.com/evenements/2026/04/19/prix-daigurande-36-2441481
END:VEVENT
END:VCALENDAR
