BEGIN:VCALENDAR
VERSION:2.0
PRODID:-//hacksw/handcal//NONSGML v1.0//EN
BEGIN:VEVENT
SUMMARY:Grand Prix feminin de Chambery
UID:a9a3955a-dcd4-4471-8148-16b2fca32f85
DTSTART:20260418T220000Z
DTEND:20260419T220000Z
LOCATION:Localisation   
CATEGORIES:Sportif
STATUS:
URL;VALUE=URI:https://www.mgvelo.com/evenements/2026/04/19/grand-prix-feminin-de-chambery-2442051
END:VEVENT
END:VCALENDAR
