BEGIN:VCALENDAR
VERSION:2.0
PRODID:-//hacksw/handcal//NONSGML v1.0//EN
BEGIN:VEVENT
SUMMARY:Grand Prix de Soultz sous Forets
UID:74c9293d-f379-4b88-b756-32041c2bb5b0
DTSTART:20260418T220000Z
DTEND:20260419T220000Z
LOCATION:Localisation   
CATEGORIES:Sportif
STATUS:
URL;VALUE=URI:https://www.mgvelo.com/evenements/2026/04/19/grand-prix-de-soultz-sous-forets-2442054
END:VEVENT
END:VCALENDAR
