BEGIN:VCALENDAR
VERSION:2.0
PRODID:-//hacksw/handcal//NONSGML v1.0//EN
BEGIN:VEVENT
SUMMARY:Tour Cycliste Aurillac Agglomeration
UID:4f55ea2b-0042-4500-a0ac-21aa943fac7a
DTSTART:20260417T220000Z
DTEND:20260419T220000Z
LOCATION:Localisation   
CATEGORIES:Sportif
STATUS:
URL;VALUE=URI:https://www.mgvelo.com/evenements/2026/04/18/tour-cycliste-aurillac-agglomeration-2442058
END:VEVENT
END:VCALENDAR
