BEGIN:VCALENDAR
VERSION:2.0
PRODID:-//hacksw/handcal//NONSGML v1.0//EN
BEGIN:VEVENT
SUMMARY:La Route des Megalithes (56)
UID:7999a2fa-957c-4f2e-9366-53bed7aeaa3a
DTSTART:20260417T220000Z
DTEND:20260418T220000Z
LOCATION:Localisation   
CATEGORIES:Sportif
STATUS:
URL;VALUE=URI:https://www.mgvelo.com/evenements/2026/04/18/la-route-des-megalithes-56-2442057
END:VEVENT
END:VCALENDAR
