BEGIN:VCALENDAR
VERSION:2.0
PRODID:-//hacksw/handcal//NONSGML v1.0//EN
BEGIN:VEVENT
SUMMARY:La Boucle de Troncais
UID:b4b83ca2-fb2e-489b-ac16-dec02bca4e51
DTSTART:20260417T220000Z
DTEND:20260418T220000Z
LOCATION:Localisation   
CATEGORIES:Sportif
STATUS:
URL;VALUE=URI:https://www.mgvelo.com/evenements/2026/04/18/la-boucle-de-troncais-2434718
END:VEVENT
END:VCALENDAR
