BEGIN:VCALENDAR
VERSION:2.0
PRODID:-//hacksw/handcal//NONSGML v1.0//EN
BEGIN:VEVENT
SUMMARY:Classic Grand Besancon Doubs
UID:f8fd6a22-0e47-49e5-a660-ce04ba8c2fcc
DTSTART:20260416T220000Z
DTEND:20260417T220000Z
LOCATION:Localisation   
CATEGORIES:Sportif
STATUS:
URL;VALUE=URI:https://www.mgvelo.com/evenements/2026/04/17/classic-grand-besancon-doubs-2441483
END:VEVENT
END:VCALENDAR
