BEGIN:VCALENDAR
VERSION:2.0
PRODID:-//hacksw/handcal//NONSGML v1.0//EN
BEGIN:VEVENT
SUMMARY:Paris Roubaix Feminin
UID:f1d5d289-c2ca-4069-a473-c9cc71fe07f5
DTSTART:20260411T220000Z
DTEND:20260412T220000Z
LOCATION:Localisation   
CATEGORIES:Sportif
STATUS:
URL;VALUE=URI:https://www.mgvelo.com/evenements/2026/04/12/paris-roubaix-feminin-2415856
END:VEVENT
END:VCALENDAR
