BEGIN:VCALENDAR
VERSION:2.0
PRODID:-//hacksw/handcal//NONSGML v1.0//EN
BEGIN:VEVENT
SUMMARY:Paris Roubaix
UID:6acfb198-fdb4-4a5b-b2ee-e9b7e811ae7f
DTSTART:20260411T220000Z
DTEND:20260412T220000Z
LOCATION:Localisation   
CATEGORIES:Sportif
STATUS:
URL;VALUE=URI:https://www.mgvelo.com/evenements/2026/04/12/paris-roubaix-2415855
END:VEVENT
END:VCALENDAR
